BEGIN:VCALENDAR
VERSION:2.0
PRODID:icalendar-ruby
CALSCALE:GREGORIAN
METHOD:PUBLISH
BEGIN:VEVENT
DTSTAMP:20260424T141718Z
UID:113-164122@mylegacychurch.com
DTSTART:20260510T150000Z
DTEND:20260510T163000Z
CLASS:PUBLIC
CREATED:20260420T112856
DESCRIPTION:Honoring Our Sweet Moms\n"Strength and dignity are her clothing
 \, and she laughs at the time to come." — Proverbs 31:25\nAt Legacy Chur
 ch\, we believe a mother’s influence is a cornerstone of faith and famil
 y. This Mother’s Day\, we invite you to a special service where we celeb
 rate the "sweet moms" in our midst. We want to honor your sacrifices\, pra
 y over your journey\, and remind you of the incredible value you hold in G
 od’s kingdom.\nBring your family and join us as we lift up the women who
  lead us with grace
LAST-MODIFIED:20260420T112856
LOCATION:Legacy Church\, 120 Tickey Dr\, Princeton\, Tx 75407
SUMMARY:Mother's Day
URL;VALUE=URI:https://mylegacychurch.com/events/mothers-day/2026-05-10
ATTACH;FILENAME=Mothers Day.jpg;FMTTYPE=image/jpeg:https://dq5pwpg1q8ru0.cl
 oudfront.net/2026/04/20/16/08/37/dbea39b0-52b6-4281-b07b-d7af71263965/Moth
 ers%20Day.jpg
END:VEVENT
END:VCALENDAR
