BEGIN:VCALENDAR
VERSION:2.0
PRODID:icalendar-ruby
CALSCALE:GREGORIAN
METHOD:PUBLISH
BEGIN:VEVENT
DTSTAMP:20260425T123746Z
UID:89-164168@mylegacychurch.com
DTSTART:20260623T150000Z
DTEND:20260623T160000Z
CLASS:PUBLIC
CREATED:20260424T161849
DESCRIPTION:\nAdult Bible Study: The Book of Ephesians\nJoin us every Tuesd
 ay morning at 10:00 AM as we dive deep into the Word of God together. Our 
 current study features a verse-by-verse journey through the Book of Ephesi
 ans\, led by pastor and author J.D. Greear.\nWhat to Expect\nIn this 9-ses
 sion series\, we explore Paul’s "survival manual" for believers. You’l
 l discover how the gospel calls us out of the graveyard of sin and equips 
 us to thrive and share the message of Jesus Christ in a darkened world.\n\
 n\nWhen: Tuesdays | 10:00 AM – 11:00 AM\n\n\nWhere: 120 Tickey Drive\, P
 rinceton\, TX 75407 (Prayer Room)\n\n\nWho: Open to all adults looking to 
 grow in their faith and community.\n\n\nNote: Childcare is not available f
 or this session.\n\n\nWhy Join Us?\nWhether you are a longtime believer or
  just beginning your walk with Christ\, this study offers a powerful oppor
 tunity to encounter the story of Jesus and learn how to live out the gospe
 l in your home\, school\, and city.\nSERIES TRAILER\n
LAST-MODIFIED:20260424T161849
LOCATION:120 Tickey Drive\, Princeton\, TX 75407
SUMMARY:Adult Bible Study
URL;VALUE=URI:https://mylegacychurch.com/events/adult-bible-study/2026-06-2
 3
ATTACH;FILENAME=Event Slides 2025 (Video) (15).jpg;FMTTYPE=image/jpeg:https
 ://dq5pwpg1q8ru0.cloudfront.net/2026/04/24/21/13/00/840342bc-2a48-4ea0-b2e
 f-1b5ceb61b2ef/Event%20Slides%202025%20(Video)%20(15).jpg
END:VEVENT
END:VCALENDAR
